BEGIN:VCALENDAR
VERSION:2.0
PRODID:-//ODD Muse Brewing Company - ECPv6.15.18//NONSGML v1.0//EN
CALSCALE:GREGORIAN
METHOD:PUBLISH
X-WR-CALNAME:ODD Muse Brewing Company
X-ORIGINAL-URL:https://oddmusebrewing.com
X-WR-CALDESC:Events for ODD Muse Brewing Company
REFRESH-INTERVAL;VALUE=DURATION:PT1H
X-Robots-Tag:noindex
X-PUBLISHED-TTL:PT1H
BEGIN:VTIMEZONE
TZID:UTC
BEGIN:STANDARD
TZOFFSETFROM:+0000
TZOFFSETTO:+0000
TZNAME:UTC
DTSTART:20230101T000000
END:STANDARD
END:VTIMEZONE
BEGIN:VEVENT
DTSTART;TZID=UTC:20241002T190000
DTEND;TZID=UTC:20241002T210000
DTSTAMP:20260423T150535
CREATED:20240912T030327Z
LAST-MODIFIED:20240912T030327Z
UID:6359-1727895600-1727902800@oddmusebrewing.com
SUMMARY:General Knowledge Trivia
DESCRIPTION:
URL:https://oddmusebrewing.com/event/general-knowledge-trivia-11/
END:VEVENT
BEGIN:VEVENT
DTSTART;TZID=UTC:20241009T190000
DTEND;TZID=UTC:20241009T210000
DTSTAMP:20260423T150535
CREATED:20240912T030419Z
LAST-MODIFIED:20240912T030419Z
UID:6361-1728500400-1728507600@oddmusebrewing.com
SUMMARY:True Crime Trivia
DESCRIPTION:
URL:https://oddmusebrewing.com/event/true-crime-trivia/
END:VEVENT
BEGIN:VEVENT
DTSTART;TZID=UTC:20241016T190000
DTEND;TZID=UTC:20241016T210000
DTSTAMP:20260423T150535
CREATED:20240912T030606Z
LAST-MODIFIED:20240912T030606Z
UID:6363-1729105200-1729112400@oddmusebrewing.com
SUMMARY:General Knowledge Trivia
DESCRIPTION:
URL:https://oddmusebrewing.com/event/general-knowledge-trivia-12/
END:VEVENT
BEGIN:VEVENT
DTSTART;TZID=UTC:20241023T190000
DTEND;TZID=UTC:20241023T210000
DTSTAMP:20260423T150535
CREATED:20240918T234816Z
LAST-MODIFIED:20240918T234816Z
UID:6367-1729710000-1729717200@oddmusebrewing.com
SUMMARY:Sponge Bob Trivia
DESCRIPTION:
URL:https://oddmusebrewing.com/event/sponge-bob-trivia/
CATEGORIES:Trivia
END:VEVENT
BEGIN:VEVENT
DTSTART;TZID=UTC:20241030T190000
DTEND;TZID=UTC:20241030T210000
DTSTAMP:20260423T150535
CREATED:20240912T030648Z
LAST-MODIFIED:20240912T030648Z
UID:6365-1730314800-1730322000@oddmusebrewing.com
SUMMARY:Horror Movie Trivia
DESCRIPTION:
URL:https://oddmusebrewing.com/event/horror-movie-trivia/
END:VEVENT
END:VCALENDAR