BEGIN:VCALENDAR
VERSION:2.0
PRODID:-//ODD Muse Brewing Company - ECPv6.15.18//NONSGML v1.0//EN
CALSCALE:GREGORIAN
METHOD:PUBLISH
X-ORIGINAL-URL:https://oddmusebrewing.com
X-WR-CALDESC:Events for ODD Muse Brewing Company
REFRESH-INTERVAL;VALUE=DURATION:PT1H
X-Robots-Tag:noindex
X-PUBLISHED-TTL:PT1H
BEGIN:VTIMEZONE
TZID:UTC
BEGIN:STANDARD
TZOFFSETFROM:+0000
TZOFFSETTO:+0000
TZNAME:UTC
DTSTART:20240101T000000
END:STANDARD
END:VTIMEZONE
BEGIN:VEVENT
DTSTART;TZID=UTC:20250507T190000
DTEND;TZID=UTC:20250507T210000
DTSTAMP:20260423T090212
CREATED:20250505T032811Z
LAST-MODIFIED:20250505T032811Z
UID:6544-1746644400-1746651600@oddmusebrewing.com
SUMMARY:TRIVIA: Star Wars
DESCRIPTION:
URL:https://oddmusebrewing.com/event/trivia-star-wars/
END:VEVENT
END:VCALENDAR