BEGIN:VCALENDAR
VERSION:2.0
PRODID:-//ODD Muse Brewing Company - ECPv6.15.18//NONSGML v1.0//EN
CALSCALE:GREGORIAN
METHOD:PUBLISH
X-ORIGINAL-URL:https://oddmusebrewing.com
X-WR-CALDESC:Events for ODD Muse Brewing Company
REFRESH-INTERVAL;VALUE=DURATION:PT1H
X-Robots-Tag:noindex
X-PUBLISHED-TTL:PT1H
BEGIN:VTIMEZONE
TZID:UTC
BEGIN:STANDARD
TZOFFSETFROM:+0000
TZOFFSETTO:+0000
TZNAME:UTC
DTSTART:20230101T000000
END:STANDARD
END:VTIMEZONE
BEGIN:VEVENT
DTSTART;TZID=UTC:20240313T190000
DTEND;TZID=UTC:20240313T210000
DTSTAMP:20260424T024835
CREATED:20240304T040945Z
LAST-MODIFIED:20240304T040945Z
UID:6097-1710356400-1710363600@oddmusebrewing.com
SUMMARY:General Knowledge
DESCRIPTION:
URL:https://oddmusebrewing.com/event/general-knowledge-4/
END:VEVENT
END:VCALENDAR